BEGIN:VCALENDAR
VERSION:2.0
PRODID:-//Victoria Symphony - ECPv6.15.18//NONSGML v1.0//EN
CALSCALE:GREGORIAN
METHOD:PUBLISH
X-ORIGINAL-URL:https://victoriasymphony.ca
X-WR-CALDESC:Events for Victoria Symphony
REFRESH-INTERVAL;VALUE=DURATION:PT1H
X-Robots-Tag:noindex
X-PUBLISHED-TTL:PT1H
BEGIN:VTIMEZONE
TZID:America/Vancouver
BEGIN:DAYLIGHT
TZOFFSETFROM:-0800
TZOFFSETTO:-0700
TZNAME:PDT
DTSTART:20230312T100000
END:DAYLIGHT
BEGIN:STANDARD
TZOFFSETFROM:-0700
TZOFFSETTO:-0800
TZNAME:PST
DTSTART:20231105T090000
END:STANDARD
BEGIN:DAYLIGHT
TZOFFSETFROM:-0800
TZOFFSETTO:-0700
TZNAME:PDT
DTSTART:20240310T100000
END:DAYLIGHT
BEGIN:STANDARD
TZOFFSETFROM:-0700
TZOFFSETTO:-0800
TZNAME:PST
DTSTART:20241103T090000
END:STANDARD
BEGIN:DAYLIGHT
TZOFFSETFROM:-0800
TZOFFSETTO:-0700
TZNAME:PDT
DTSTART:20250309T100000
END:DAYLIGHT
BEGIN:STANDARD
TZOFFSETFROM:-0700
TZOFFSETTO:-0800
TZNAME:PST
DTSTART:20251102T090000
END:STANDARD
END:VTIMEZONE
BEGIN:VEVENT
DTSTART;TZID=America/Vancouver:20240204T143000
DTEND;TZID=America/Vancouver:20240204T163000
DTSTAMP:20260423T015233
CREATED:20230402T232053Z
LAST-MODIFIED:20240131T210451Z
UID:6956-1707057000-1707064200@victoriasymphony.ca
SUMMARY:Kluxen – Transfigured Night
DESCRIPTION:The strings of the Victoria Symphony are showcased in three works\, beginning with a familiar\, high-spirited piece by a 16-year-old Mozart. Shostakovich’s sparkling wit\, sly humour\, and love of musical parody are displayed in his energetic Concerto for piano\, trumpet\, and strings. Then step out from the darkness into the light\, and have your view of Schoenberg’s music transformed. “Transfigured Night” is an early\, overtly romantic piece with musical echoes of Brahms\, Wagner\, Mahler\, and Richard Strauss. \nConcert underwritten by Tim McGee\, KC & Mary Mullens\nRyan Cole underwritten by Marc & Patricia Lortie\nDavid Jalbert underwritten by George Lovick
URL:https://victoriasymphony.ca/concerts/kluxen-transfigured-night/
LOCATION:Farquhar at UVic\, University Farquhar Auditorium\, Ring Road\, Victoria\, BC\, V8P 5C2\, Canada
ATTACH;FMTTYPE=image/png:https://victoriasymphony.ca/wp-content/uploads/2023/04/Kluxen-Transfigured-Night-1920-x-1080.png
END:VEVENT
BEGIN:VEVENT
DTSTART;TZID=America/Vancouver:20240211T143000
DTEND;TZID=America/Vancouver:20240211T163000
DTSTAMP:20260423T015233
CREATED:20230402T232544Z
LAST-MODIFIED:20240201T000722Z
UID:6958-1707661800-1707669000@victoriasymphony.ca
SUMMARY:Kluxen – Shostakovich Symphony No. 5
DESCRIPTION:Victoria Symphony teams up with the Greater Vic­toria Youth Orchestra in a special joint performance sure to inspire. Enescu’s work sets the stage in a stately and supremely lyrical manner that tugs at the heartstrings. VS principal cellist Brian Yoon tackles one of the top five cello concertos\, still popular 150 years after it was written. With his career hanging by a political thread\, Shostakovich composed his subtly defiant Symphony No. 5. The 45-minute ovation that followed its premiere assured his musical voice would go on to inspire future generations. \nConcert underwritten by Jim & Betty Hesser and Fritz & Dora Boehm\nBrian Yoon’s performance underwritten by Barb & Steve McKerrell and Jim & Betty Hesser\nGreater Victoria Youth Orchestra underwritten by The Sunflower Fund
URL:https://victoriasymphony.ca/concerts/kluxen-shostakovich-symphony-no-5/
LOCATION:Farquhar at UVic\, University Farquhar Auditorium\, Ring Road\, Victoria\, BC\, V8P 5C2\, Canada
ATTACH;FMTTYPE=image/png:https://victoriasymphony.ca/wp-content/uploads/2023/04/Kluxen-Shostakovich-Symphony-No.-5-1920-x-1080.png
END:VEVENT
END:VCALENDAR